BEGIN:VCALENDAR
VERSION:2.0
PRODID:-//New Life Apostolic Church - ECPv6.15.18//NONSGML v1.0//EN
CALSCALE:GREGORIAN
METHOD:PUBLISH
X-ORIGINAL-URL:https://nlaclive.org
X-WR-CALDESC:Events for New Life Apostolic Church
REFRESH-INTERVAL;VALUE=DURATION:PT1H
X-Robots-Tag:noindex
X-PUBLISHED-TTL:PT1H
BEGIN:VTIMEZONE
TZID:UTC
BEGIN:STANDARD
TZOFFSETFROM:+0000
TZOFFSETTO:+0000
TZNAME:UTC
DTSTART:20250101T000000
END:STANDARD
END:VTIMEZONE
BEGIN:VEVENT
DTSTART;VALUE=DATE:20260808
DTEND;VALUE=DATE:20260810
DTSTAMP:20260420T003957
CREATED:20260120T171231Z
LAST-MODIFIED:20260120T171231Z
UID:3148-1786147200-1786319999@nlaclive.org
SUMMARY:Back-to-School Weekend
DESCRIPTION:Saturday we will have events for students of all ages! This will be a great time of fellowship and fun!\nSunday our service will focus on our students\, as well as be student-led. We will pray over them as they prepare for the new school year!
URL:https://nlaclive.org/event/back-to-school-weekend/
END:VEVENT
END:VCALENDAR