BEGIN:VCALENDAR
VERSION:2.0
PRODID:-//New Life Apostolic Church - ECPv6.15.18//NONSGML v1.0//EN
CALSCALE:GREGORIAN
METHOD:PUBLISH
X-ORIGINAL-URL:https://nlaclive.org
X-WR-CALDESC:Events for New Life Apostolic Church
REFRESH-INTERVAL;VALUE=DURATION:PT1H
X-Robots-Tag:noindex
X-PUBLISHED-TTL:PT1H
BEGIN:VTIMEZONE
TZID:UTC
BEGIN:STANDARD
TZOFFSETFROM:+0000
TZOFFSETTO:+0000
TZNAME:UTC
DTSTART:20250101T000000
END:STANDARD
END:VTIMEZONE
BEGIN:VEVENT
DTSTART;VALUE=DATE:20260815
DTEND;VALUE=DATE:20260816
DTSTAMP:20260420T003910
CREATED:20260120T171444Z
LAST-MODIFIED:20260120T171444Z
UID:3150-1786752000-1786838399@nlaclive.org
SUMMARY:Georgia District 'Menistry' Conference
DESCRIPTION:Our ALJC Georgia District churches will gather for a Men’s service. \nTime & Location is TBA
URL:https://nlaclive.org/event/georgia-district-menistry-conference/
END:VEVENT
END:VCALENDAR