BEGIN:VCALENDAR
VERSION:2.0
PRODID:-//New Life Apostolic Church - ECPv6.15.18//NONSGML v1.0//EN
CALSCALE:GREGORIAN
METHOD:PUBLISH
X-ORIGINAL-URL:https://nlaclive.org
X-WR-CALDESC:Events for New Life Apostolic Church
REFRESH-INTERVAL;VALUE=DURATION:PT1H
X-Robots-Tag:noindex
X-PUBLISHED-TTL:PT1H
BEGIN:VTIMEZONE
TZID:UTC
BEGIN:STANDARD
TZOFFSETFROM:+0000
TZOFFSETTO:+0000
TZNAME:UTC
DTSTART:20250101T000000
END:STANDARD
END:VTIMEZONE
BEGIN:VEVENT
DTSTART;TZID=UTC:20260913T113000
DTEND;TZID=UTC:20260913T123000
DTSTAMP:20260420T022034
CREATED:20260120T171641Z
LAST-MODIFIED:20260120T171713Z
UID:3152-1789299000-1789302600@nlaclive.org
SUMMARY:Small Group Fair
DESCRIPTION:Our Fall Small Group Fair will take place immediately following service! Please come and get involved\, we have something for everyone! \nYou may also visit the ‘Small Groups’ tab on the website to sign up.
URL:https://nlaclive.org/event/small-group-fair-3/
END:VEVENT
END:VCALENDAR