BEGIN:VCALENDAR
VERSION:2.0
PRODID:-//New Life Apostolic Church - ECPv6.15.18//NONSGML v1.0//EN
CALSCALE:GREGORIAN
METHOD:PUBLISH
X-ORIGINAL-URL:https://nlaclive.org
X-WR-CALDESC:Events for New Life Apostolic Church
REFRESH-INTERVAL;VALUE=DURATION:PT1H
X-Robots-Tag:noindex
X-PUBLISHED-TTL:PT1H
BEGIN:VTIMEZONE
TZID:UTC
BEGIN:STANDARD
TZOFFSETFROM:+0000
TZOFFSETTO:+0000
TZNAME:UTC
DTSTART:20250101T000000
END:STANDARD
END:VTIMEZONE
BEGIN:VEVENT
DTSTART;TZID=UTC:20261004T100000
DTEND;TZID=UTC:20261004T113000
DTSTAMP:20260420T024119
CREATED:20260120T171931Z
LAST-MODIFIED:20260120T171931Z
UID:3154-1791108000-1791113400@nlaclive.org
SUMMARY:Baby Dedication
DESCRIPTION:During service\, we will be dedicating children back t0 the Lord! If you would like you child/children to be included contact Madelyn Vaughn at the church office.
URL:https://nlaclive.org/event/baby-dedication-3/
END:VEVENT
END:VCALENDAR