BEGIN:VCALENDAR
VERSION:2.0
PRODID:-//New Life Apostolic Church - ECPv6.15.18//NONSGML v1.0//EN
CALSCALE:GREGORIAN
METHOD:PUBLISH
X-ORIGINAL-URL:https://nlaclive.org
X-WR-CALDESC:Events for New Life Apostolic Church
REFRESH-INTERVAL;VALUE=DURATION:PT1H
X-Robots-Tag:noindex
X-PUBLISHED-TTL:PT1H
BEGIN:VTIMEZONE
TZID:UTC
BEGIN:STANDARD
TZOFFSETFROM:+0000
TZOFFSETTO:+0000
TZNAME:UTC
DTSTART:20250101T000000
END:STANDARD
END:VTIMEZONE
BEGIN:VEVENT
DTSTART;VALUE=DATE:20261125
DTEND;VALUE=DATE:20261128
DTSTAMP:20260420T053228
CREATED:20260120T182326Z
LAST-MODIFIED:20260120T182326Z
UID:3160-1795564800-1795823999@nlaclive.org
SUMMARY:National Youth Conference
DESCRIPTION:Our youth group (high school) and Adutlish (18-30\, single) will be traveling to National Youth Conference. \nPlease contact youth staff for more information.
URL:https://nlaclive.org/event/national-youth-conference-2/
END:VEVENT
END:VCALENDAR