BEGIN:VCALENDAR
VERSION:2.0
PRODID:-//New Life Apostolic Church - ECPv6.15.18//NONSGML v1.0//EN
CALSCALE:GREGORIAN
METHOD:PUBLISH
X-WR-CALNAME:New Life Apostolic Church
X-ORIGINAL-URL:https://nlaclive.org
X-WR-CALDESC:Events for New Life Apostolic Church
REFRESH-INTERVAL;VALUE=DURATION:PT1H
X-Robots-Tag:noindex
X-PUBLISHED-TTL:PT1H
BEGIN:VTIMEZONE
TZID:UTC
BEGIN:STANDARD
TZOFFSETFROM:+0000
TZOFFSETTO:+0000
TZNAME:UTC
DTSTART:20250101T000000
END:STANDARD
END:VTIMEZONE
BEGIN:VTIMEZONE
TZID:America/New_York
BEGIN:DAYLIGHT
TZOFFSETFROM:-0500
TZOFFSETTO:-0400
TZNAME:EDT
DTSTART:20250309T070000
END:DAYLIGHT
BEGIN:STANDARD
TZOFFSETFROM:-0400
TZOFFSETTO:-0500
TZNAME:EST
DTSTART:20251102T060000
END:STANDARD
BEGIN:DAYLIGHT
TZOFFSETFROM:-0500
TZOFFSETTO:-0400
TZNAME:EDT
DTSTART:20260308T070000
END:DAYLIGHT
BEGIN:STANDARD
TZOFFSETFROM:-0400
TZOFFSETTO:-0500
TZNAME:EST
DTSTART:20261101T060000
END:STANDARD
BEGIN:DAYLIGHT
TZOFFSETFROM:-0500
TZOFFSETTO:-0400
TZNAME:EDT
DTSTART:20270314T070000
END:DAYLIGHT
BEGIN:STANDARD
TZOFFSETFROM:-0400
TZOFFSETTO:-0500
TZNAME:EST
DTSTART:20271107T060000
END:STANDARD
END:VTIMEZONE
BEGIN:VEVENT
DTSTART;VALUE=DATE:20260622
DTEND;VALUE=DATE:20260626
DTSTAMP:20260422T084636
CREATED:20260120T170415Z
LAST-MODIFIED:20260120T170415Z
UID:3144-1782086400-1782431999@nlaclive.org
SUMMARY:Strongtower Youth Camp
DESCRIPTION:Our youth group (middle school – high school) and our Adult-ish group (18-30\, single) will be traveling to Strongtower Youth Camp. More information will be available soon.
URL:https://nlaclive.org/event/strongtower-youth-camp/
END:VEVENT
BEGIN:VEVENT
DTSTART;VALUE=DATE:20260615
DTEND;VALUE=DATE:20260619
DTSTAMP:20260422T084636
CREATED:20260120T170152Z
LAST-MODIFIED:20260120T170152Z
UID:3142-1781481600-1781827199@nlaclive.org
SUMMARY:General Ministry Conference
DESCRIPTION:Our ministerial staff will be traveling to Knoxville\, TN for General Ministry Conference hosted by the Assemblies of the Lord Jesus Christ.
URL:https://nlaclive.org/event/general-ministry-conference/
END:VEVENT
BEGIN:VEVENT
DTSTART;TZID=UTC:20260603T174500
DTEND;TZID=UTC:20260603T184500
DTSTAMP:20260422T084636
CREATED:20260304T181218Z
LAST-MODIFIED:20260304T181218Z
UID:3292-1780508700-1780512300@nlaclive.org
SUMMARY:First Wednesday Dinner and Youth Service
DESCRIPTION:Every 1st Wednesday of the month\, we provide a dinner from 5:45-6:45 in the Event Center. We encourage everyone to come and enjoy a meal on us and fellowship with the body of Christ! \nOur 1st Wednesday service of the month is dedicated to our students starting at 7pm. While the service is student led and student focused\, we encourage everyone to join us in worship & the Word! \nMeal: TBA
URL:https://nlaclive.org/event/first-wednesday-dinner-and-youth-service-5/
END:VEVENT
BEGIN:VEVENT
DTSTART;TZID=UTC:20260531T100000
DTEND;TZID=UTC:20260531T113000
DTSTAMP:20260422T084636
CREATED:20260120T165908Z
LAST-MODIFIED:20260120T165908Z
UID:3140-1780221600-1780227000@nlaclive.org
SUMMARY:Graduation Sunday
DESCRIPTION:In this service\, we will be honoring our 2026 high school graduates!
URL:https://nlaclive.org/event/graduation-sunday/
END:VEVENT
BEGIN:VEVENT
DTSTART;TZID=UTC:20260510T100000
DTEND;TZID=UTC:20260510T233000
DTSTAMP:20260422T084636
CREATED:20260120T165751Z
LAST-MODIFIED:20260120T165751Z
UID:3138-1778407200-1778455800@nlaclive.org
SUMMARY:Baby Dedication
DESCRIPTION:During our 10am service\, we will be dedicating children back to the Lord. If you would like your child/children to be included\, please contact the Madelyn Vaughn at church office.
URL:https://nlaclive.org/event/baby-dedication-2/
END:VEVENT
BEGIN:VEVENT
DTSTART;TZID=UTC:20260506T174500
DTEND;TZID=UTC:20260506T184500
DTSTAMP:20260422T084636
CREATED:20260304T181116Z
LAST-MODIFIED:20260304T181116Z
UID:3290-1778089500-1778093100@nlaclive.org
SUMMARY:First Wednesday Dinner and Youth Service
DESCRIPTION:Every 1st Wednesday of the month\, we provide a dinner from 5:45-6:45 in the Event Center. We encourage everyone to come and enjoy a meal on us and fellowship with the body of Christ! \nOur 1st Wednesday service of the month is dedicated to our students starting at 7pm. While the service is student led and student focused\, we encourage everyone to join us in worship & the Word! \nMeal: TBA
URL:https://nlaclive.org/event/first-wednesday-dinner-and-youth-service-4/
END:VEVENT
BEGIN:VEVENT
DTSTART;VALUE=DATE:20260405
DTEND;VALUE=DATE:20260406
DTSTAMP:20260422T084636
CREATED:20251203T165341Z
LAST-MODIFIED:20251203T165341Z
UID:3024-1775347200-1775433599@nlaclive.org
SUMMARY:Easter Sunday & Bishop Hammond Day
DESCRIPTION:Our Easter Sunday service will be at 10AM to celebrate our risen Savior! \nApril 5th is also recognized as Bishop Hammond Day in memory of our founding pastor\, Douglas Hammond.
URL:https://nlaclive.org/event/easter-sunday-bishop-hammond-day/
END:VEVENT
BEGIN:VEVENT
DTSTART;TZID=UTC:20260401T174500
DTEND;TZID=UTC:20260401T184500
DTSTAMP:20260422T084636
CREATED:20260304T180950Z
LAST-MODIFIED:20260304T180950Z
UID:3288-1775065500-1775069100@nlaclive.org
SUMMARY:First Wednesday Dinner and Youth Service
DESCRIPTION:Every 1st Wednesday of the month\, we provide a dinner from 5:45-6:45 in the Event Center. We encourage everyone to come and enjoy a meal on us and fellowship with the body of Christ! \nOur 1st Wednesday service of the month is dedicated to our students starting at 7pm. While the service is student led and student focused\, we encourage everyone to join us in worship & the Word! \nMeal: TBA
URL:https://nlaclive.org/event/first-wednesday-dinner-and-youth-service-3/
END:VEVENT
BEGIN:VEVENT
DTSTART;TZID=UTC:20260308T120000
DTEND;TZID=UTC:20260308T130000
DTSTAMP:20260422T084636
CREATED:20251201T212837Z
LAST-MODIFIED:20251201T212837Z
UID:3018-1772971200-1772974800@nlaclive.org
SUMMARY:Small Group Fair
DESCRIPTION:Directly following service our Spring semester of small groups will launch in the Event Center! Sign up will be available at each table or on the Church Center app.
URL:https://nlaclive.org/event/small-group-fair-2/
END:VEVENT
BEGIN:VEVENT
DTSTART;TZID=UTC:20260304T174500
DTEND;TZID=UTC:20260304T184500
DTSTAMP:20260422T084636
CREATED:20260304T180848Z
LAST-MODIFIED:20260304T180848Z
UID:3286-1772646300-1772649900@nlaclive.org
SUMMARY:First Wednesday Dinner and Youth Service
DESCRIPTION:Every 1st Wednesday of the month\, we provide a dinner from 5:45-6:45 in the Event Center. We encourage everyone to come and enjoy a meal on us and fellowship with the body of Christ! \nOur 1st Wednesday service of the month is dedicated to our students starting at 7pm. While the service is student led and student focused\, we encourage everyone to join us in worship & the Word! \nMeal: Pancakes\, Sausage\, & Eggs
URL:https://nlaclive.org/event/first-wednesday-dinner-and-youth-service-2/
END:VEVENT
BEGIN:VEVENT
DTSTART;TZID=UTC:20260220T190000
DTEND;TZID=UTC:20260221T120000
DTSTAMP:20260422T084636
CREATED:20251201T212459Z
LAST-MODIFIED:20251201T212459Z
UID:3014-1771614000-1771675200@nlaclive.org
SUMMARY:Marriage Retreat
DESCRIPTION:New Life Apostolic Church will hold a Marriage Retreat for couples. This will include a Friday night session and a Saturday morning session. Registration information will be available soon.
URL:https://nlaclive.org/event/marriage-retreat/
END:VEVENT
BEGIN:VEVENT
DTSTART;TZID=America/New_York:20260204T174500
DTEND;TZID=America/New_York:20260204T184500
DTSTAMP:20260422T084636
CREATED:20251201T213318Z
LAST-MODIFIED:20260202T180327Z
UID:3021-1770227100-1770230700@nlaclive.org
SUMMARY:First Wednesday Dinner and Youth Service
DESCRIPTION:Every 1st Wednesday of the month\, we provide a dinner from 5:45-6:45 in the Event Center. We encourage everyone to come and enjoy a meal on us and fellowship with the body of Christ! \nOur 1st Wednesday service of the month is dedicated to our students starting at 7pm. While the service is student led and student focused\, we encourage everyone to join us in worship & the Word! \nMeal: Vegetable Soup\, Potato Soup\, & Peanut Butter & Jelly Sandwiches
URL:https://nlaclive.org/event/first-wednesday-dinner-and-youth-service/
END:VEVENT
END:VCALENDAR