BEGIN:VCALENDAR
VERSION:2.0
PRODID:-//New Life Apostolic Church - ECPv6.15.18//NONSGML v1.0//EN
CALSCALE:GREGORIAN
METHOD:PUBLISH
X-ORIGINAL-URL:https://nlaclive.org
X-WR-CALDESC:Events for New Life Apostolic Church
REFRESH-INTERVAL;VALUE=DURATION:PT1H
X-Robots-Tag:noindex
X-PUBLISHED-TTL:PT1H
BEGIN:VTIMEZONE
TZID:UTC
BEGIN:STANDARD
TZOFFSETFROM:+0000
TZOFFSETTO:+0000
TZNAME:UTC
DTSTART:20250101T000000
END:STANDARD
END:VTIMEZONE
BEGIN:VEVENT
DTSTART;TZID=UTC:20261211T190000
DTEND;TZID=UTC:20261211T210000
DTSTAMP:20260420T040522
CREATED:20260120T183603Z
LAST-MODIFIED:20260120T183603Z
UID:3166-1797015600-1797022800@nlaclive.org
SUMMARY:Christmas Concert & Reception
DESCRIPTION:Please join us for a night of worship as we celebrate the birth of our Savior! At the end of our concert we will host everyone in the Event Center for a reception of light refreshments.
URL:https://nlaclive.org/event/christmas-concert-reception/
END:VEVENT
BEGIN:VEVENT
DTSTART;TZID=UTC:20261220T100000
DTEND;TZID=UTC:20261220T113000
DTSTAMP:20260420T040522
CREATED:20260120T183743Z
LAST-MODIFIED:20260120T183743Z
UID:3168-1797760800-1797766200@nlaclive.org
SUMMARY:Candlelight Service
DESCRIPTION:Please join us for our Candlelight service with the whole family!
URL:https://nlaclive.org/event/candlelight-service-2/
END:VEVENT
END:VCALENDAR