BEGIN:VCALENDAR
VERSION:2.0
PRODID:-//New Life Apostolic Church - ECPv6.15.18//NONSGML v1.0//EN
CALSCALE:GREGORIAN
METHOD:PUBLISH
X-ORIGINAL-URL:https://nlaclive.org
X-WR-CALDESC:Events for New Life Apostolic Church
REFRESH-INTERVAL;VALUE=DURATION:PT1H
X-Robots-Tag:noindex
X-PUBLISHED-TTL:PT1H
BEGIN:VTIMEZONE
TZID:UTC
BEGIN:STANDARD
TZOFFSETFROM:+0000
TZOFFSETTO:+0000
TZNAME:UTC
DTSTART:20250101T000000
END:STANDARD
END:VTIMEZONE
BEGIN:VEVENT
DTSTART;TZID=UTC:20261004T100000
DTEND;TZID=UTC:20261004T113000
DTSTAMP:20260420T022028
CREATED:20260120T171931Z
LAST-MODIFIED:20260120T171931Z
UID:3154-1791108000-1791113400@nlaclive.org
SUMMARY:Baby Dedication
DESCRIPTION:During service\, we will be dedicating children back t0 the Lord! If you would like you child/children to be included contact Madelyn Vaughn at the church office.
URL:https://nlaclive.org/event/baby-dedication-3/
END:VEVENT
BEGIN:VEVENT
DTSTART;TZID=UTC:20261007T174500
DTEND;TZID=UTC:20261007T184500
DTSTAMP:20260420T022028
CREATED:20260304T181533Z
LAST-MODIFIED:20260304T181533Z
UID:3300-1791395100-1791398700@nlaclive.org
SUMMARY:First Wednesday Dinner and Youth Service
DESCRIPTION:Every 1st Wednesday of the month\, we provide a dinner from 5:45-6:45 in the Event Center. We encourage everyone to come and enjoy a meal on us and fellowship with the body of Christ! \nOur 1st Wednesday service of the month is dedicated to our students starting at 7pm. While the service is student led and student focused\, we encourage everyone to join us in worship & the Word! \nMeal: TBA
URL:https://nlaclive.org/event/first-wednesday-dinner-and-youth-service-9/
END:VEVENT
BEGIN:VEVENT
DTSTART;VALUE=DATE:20261023
DTEND;VALUE=DATE:20261026
DTSTAMP:20260420T022028
CREATED:20260120T181842Z
LAST-MODIFIED:20260120T181842Z
UID:3156-1792713600-1792972799@nlaclive.org
SUMMARY:Family Weekend
DESCRIPTION:Please make plans to join us for our 3rd annual Family Weekend! We will have food trucks\, bouncy houses\, vendors\, and more!
URL:https://nlaclive.org/event/family-weekend-2/
END:VEVENT
END:VCALENDAR